BEGIN:VCALENDAR
VERSION:2.0
PRODID:-//Open Eck - ECPv6.15.20//NONSGML v1.0//EN
CALSCALE:GREGORIAN
METHOD:PUBLISH
X-ORIGINAL-URL:https://open-eck.de
X-WR-CALDESC:Veranstaltungen für Open Eck
REFRESH-INTERVAL;VALUE=DURATION:PT1H
X-Robots-Tag:noindex
X-PUBLISHED-TTL:PT1H
BEGIN:VTIMEZONE
TZID:Europe/Paris
BEGIN:DAYLIGHT
TZOFFSETFROM:+0100
TZOFFSETTO:+0200
TZNAME:CEST
DTSTART:20280326T010000
END:DAYLIGHT
BEGIN:STANDARD
TZOFFSETFROM:+0200
TZOFFSETTO:+0100
TZNAME:CET
DTSTART:20281029T010000
END:STANDARD
BEGIN:DAYLIGHT
TZOFFSETFROM:+0100
TZOFFSETTO:+0200
TZNAME:CEST
DTSTART:20290325T010000
END:DAYLIGHT
BEGIN:STANDARD
TZOFFSETFROM:+0200
TZOFFSETTO:+0100
TZNAME:CET
DTSTART:20291028T010000
END:STANDARD
BEGIN:DAYLIGHT
TZOFFSETFROM:+0100
TZOFFSETTO:+0200
TZNAME:CEST
DTSTART:20300331T010000
END:DAYLIGHT
BEGIN:STANDARD
TZOFFSETFROM:+0200
TZOFFSETTO:+0100
TZNAME:CET
DTSTART:20301027T010000
END:STANDARD
END:VTIMEZONE
BEGIN:VEVENT
DTSTART;TZID=Europe/Paris:20290831T093000
DTEND;TZID=Europe/Paris:20290831T133000
DTSTAMP:20260423T164622
CREATED:20260129T114547Z
LAST-MODIFIED:20260129T115604Z
UID:10004345-1882863000-1882877400@open-eck.de
SUMMARY:Schaffe Schaffe – CoWorking
DESCRIPTION:Immer Freitag öffnen wir OpenEck für den Schaffe-Schaffe-Tag – eine Mischung aus Co-Working und gemeinschaftlicher Projektarbeit. Hier kannst du an eigenen Aufgaben arbeiten und dich mit anderen austauschen. Ob handwerkliche Arbeiten\, Konzeptentwicklung oder organisatorische Aufgaben – jede*r kann sich nach eigenen Interessen einbringen. \nW-Lan\, Kaffee & Tee vorhanden\, Eintritt frei
URL:https://open-eck.de/event/schaffe-schaffe-coworking-10-3/2029-08-31/
LOCATION:OpenEck\, Breite Straße 17\, Luckenwalde\, Brandenburg\, 14943\, Germany
END:VEVENT
BEGIN:VEVENT
DTSTART;TZID=Europe/Paris:20290831T150000
DTEND;TZID=Europe/Paris:20290831T210000
DTSTAMP:20260423T164622
CREATED:20250828T185619Z
LAST-MODIFIED:20260413T173512Z
UID:10001575-1882882800-1882904400@open-eck.de
SUMMARY:Plauder Eck
DESCRIPTION:Freitags abends verwandelt sich das OpenEck in ein gemütliches Plauder-Eck. Hier ist Platz für den Austausch über große und kleine Themen des Alltags. Ob bei einer Tasse Tee oder einem Drink – jede*r ist willkommen\, einfach vorbeizukommen. \nMusik\, Drinks gegen Spende vorhanden. Kommt vorbei\, wir freuen uns auf Euch!
URL:https://open-eck.de/event/plauder-eck-23/2029-08-31/
END:VEVENT
END:VCALENDAR