BEGIN:VCALENDAR
VERSION:2.0
PRODID:-//Open Eck - ECPv6.15.20//NONSGML v1.0//EN
CALSCALE:GREGORIAN
METHOD:PUBLISH
X-ORIGINAL-URL:https://open-eck.de
X-WR-CALDESC:Veranstaltungen für Open Eck
REFRESH-INTERVAL;VALUE=DURATION:PT1H
X-Robots-Tag:noindex
X-PUBLISHED-TTL:PT1H
BEGIN:VTIMEZONE
TZID:Europe/Paris
BEGIN:DAYLIGHT
TZOFFSETFROM:+0100
TZOFFSETTO:+0200
TZNAME:CEST
DTSTART:20240331T010000
END:DAYLIGHT
BEGIN:STANDARD
TZOFFSETFROM:+0200
TZOFFSETTO:+0100
TZNAME:CET
DTSTART:20241027T010000
END:STANDARD
BEGIN:DAYLIGHT
TZOFFSETFROM:+0100
TZOFFSETTO:+0200
TZNAME:CEST
DTSTART:20250330T010000
END:DAYLIGHT
BEGIN:STANDARD
TZOFFSETFROM:+0200
TZOFFSETTO:+0100
TZNAME:CET
DTSTART:20251026T010000
END:STANDARD
BEGIN:DAYLIGHT
TZOFFSETFROM:+0100
TZOFFSETTO:+0200
TZNAME:CEST
DTSTART:20260329T010000
END:DAYLIGHT
BEGIN:STANDARD
TZOFFSETFROM:+0200
TZOFFSETTO:+0100
TZNAME:CET
DTSTART:20261025T010000
END:STANDARD
END:VTIMEZONE
BEGIN:VEVENT
DTSTART;TZID=Europe/Paris:20250717T180000
DTEND;TZID=Europe/Paris:20250717T220000
DTSTAMP:20260419T165710
CREATED:20250630T085812Z
LAST-MODIFIED:20250630T101456Z
UID:10000230-1752775200-1752789600@open-eck.de
SUMMARY:Pizzakurs mit Il Cavallo Felice
DESCRIPTION:CIAO amici \n  \nLust auf echte Pizza wie in Neapel? \n  \nZusammen mit Pizzaiolo Jens aus Berlin lernt ihr in diesem Pizzakurs Schritt für Schritt\, wie ihr \n\neinen Pizzateig herstellst\nihn perfekt fermentierst und schließlich\nüber echtem Feuer backst.\n\n  \nKnusprig\, luftig und voller Geschmack. \n  \nAlles handgemacht – von euch. Ein Kurs voller Mehl\, und Flammen! \n  \nKostendeckungsbeitrag: 38€  beinhaltet \n\nalle Materialien\nein Willkommensgetränk\nund bis zu 4 Stunden Dolce Vita\n\n  \nBitte schickt uns eine kurze Email für die nötige Anmeldung und Infos zu Glutenverträglichkeit. \n  \n  \n 
URL:https://open-eck.de/event/strick-eck-16/
ATTACH;FMTTYPE=image/png:https://open-eck.de/wp-content/uploads/2025/06/Pizza.png
END:VEVENT
END:VCALENDAR