BEGIN:VCALENDAR
VERSION:2.0
PRODID:-//Open Eck - ECPv6.15.20//NONSGML v1.0//EN
CALSCALE:GREGORIAN
METHOD:PUBLISH
X-WR-CALNAME:Open Eck
X-ORIGINAL-URL:https://open-eck.de
X-WR-CALDESC:Veranstaltungen für Open Eck
REFRESH-INTERVAL;VALUE=DURATION:PT1H
X-Robots-Tag:noindex
X-PUBLISHED-TTL:PT1H
BEGIN:VTIMEZONE
TZID:Europe/Paris
BEGIN:DAYLIGHT
TZOFFSETFROM:+0100
TZOFFSETTO:+0200
TZNAME:CEST
DTSTART:20240331T010000
END:DAYLIGHT
BEGIN:STANDARD
TZOFFSETFROM:+0200
TZOFFSETTO:+0100
TZNAME:CET
DTSTART:20241027T010000
END:STANDARD
BEGIN:DAYLIGHT
TZOFFSETFROM:+0100
TZOFFSETTO:+0200
TZNAME:CEST
DTSTART:20250330T010000
END:DAYLIGHT
BEGIN:STANDARD
TZOFFSETFROM:+0200
TZOFFSETTO:+0100
TZNAME:CET
DTSTART:20251026T010000
END:STANDARD
BEGIN:DAYLIGHT
TZOFFSETFROM:+0100
TZOFFSETTO:+0200
TZNAME:CEST
DTSTART:20260329T010000
END:DAYLIGHT
BEGIN:STANDARD
TZOFFSETFROM:+0200
TZOFFSETTO:+0100
TZNAME:CET
DTSTART:20261025T010000
END:STANDARD
END:VTIMEZONE
BEGIN:VEVENT
DTSTART;TZID=Europe/Paris:20250423T100000
DTEND;TZID=Europe/Paris:20250423T170000
DTSTAMP:20260423T150206
CREATED:20250324T105333Z
LAST-MODIFIED:20250324T105333Z
UID:10000050-1745402400-1745427600@open-eck.de
SUMMARY:Familientag
DESCRIPTION:Junggeblieben trifft Jung \nMittwochs steht das OpenEck ganz im Zeichen des generationsübergreifenden Austauschs. „Junggeblieben trifft Jung“ lädt Menschen unterschiedlichen Alters dazu ein\, sich in lockerer Atmosphäre zu begegnen\, voneinander zu lernen und gemeinsame Aktivitäten zu gestalten. Ob handwerkliche Projekte\, Erzählrunden\, Spielenachmittage oder kreative Workshops – das Format schafft Raum für lebendige Dialoge und neue Perspektiven. Ziel ist es\, Verbindungen zu stärken\, Wissen zu teilen und das Miteinander im Viertel zu fördern. Jede*r ist willkommen\, sich einzubringen und das Programm mitzugestalten! \nW-Lan\, Kaffee & Tee vorhanden\, Eintritt frei\, Spenden willkommen
URL:https://open-eck.de/event/familientag-4/
ATTACH;FMTTYPE=image/jpeg:https://open-eck.de/wp-content/uploads/2025/02/IMG_7390_fb.jpg
END:VEVENT
BEGIN:VEVENT
DTSTART;TZID=Europe/Paris:20250423T160000
DTEND;TZID=Europe/Paris:20250423T180000
DTSTAMP:20260423T150206
CREATED:20250324T110307Z
LAST-MODIFIED:20250331T172724Z
UID:10000055-1745424000-1745431200@open-eck.de
SUMMARY:Offene Sprechstunde
DESCRIPTION:Hast du Fragen oder brauchst Unterstützung bei persönlichen Themen?\nDann komm zu unserer offenen Sprechstunde im Open Eck. \n💬 Michelle wird die Sprechstunde leiten und ist für alle da\, die Unterstützung oder ein offenes Ohr brauchen. Sie bringt wertvolle Erfahrungen mit und ist in der sozialen Arbeit sowie systemischen Therapie bestens ausgebildet. \n\nWas dich erwartet: ✅ Ein offenes Ohr für all deine Themen \n✅ Individuelle Beratung zu persönlichen oder beruflichen Anliegen\n✅ Stärkung deiner emotionalen Resilienz und deines Selbstwertgefühls\n✅ Begleitung bei schwierigen Lebensveränderungen oder belastenden Erlebnissen \n\nÜber Michelle: \n\n🌟 Studierte soziale Arbeit mit Schwerpunkten in Sprachpädagogik\, Inklusion und Teilhabe\n\n🧠 Systemische Paar- und Familientherapeutin (seit 2023) am ISTB Berlin\n💪 Erfahrung in der stationären Behinderten- und Jugendhilfe\, Kindertageseinrichtungen und Hilfen zur Erziehung\n\n📚 Schwäche für Kinderbücher und 📸 Fotografie\n\n🌊 Sternzeichen Fische\n\n  \nDie Offene Sprechstunde ist für alle – ganz egal\, ob du etwas auf dem Herzen hast oder einfach mal ein Gespräch suchst. 💬 \n👉 Komm vorbei\, bring dich ein und gestalte mit uns das Open Eck zu einem Ort des Austauschs! Du bist willkommen! 🌱
URL:https://open-eck.de/event/offene-sprechstunde-2/
ATTACH;FMTTYPE=image/jpeg:https://open-eck.de/wp-content/uploads/2025/03/wir-koennen-einander-helfen-untersetzer.jpg
END:VEVENT
END:VCALENDAR