BEGIN:VCALENDAR
VERSION:2.0
PRODID:-//Open Eck - ECPv6.15.20//NONSGML v1.0//EN
CALSCALE:GREGORIAN
METHOD:PUBLISH
X-WR-CALNAME:Open Eck
X-ORIGINAL-URL:https://open-eck.de
X-WR-CALDESC:Veranstaltungen für Open Eck
REFRESH-INTERVAL;VALUE=DURATION:PT1H
X-Robots-Tag:noindex
X-PUBLISHED-TTL:PT1H
BEGIN:VTIMEZONE
TZID:Europe/Paris
BEGIN:DAYLIGHT
TZOFFSETFROM:+0100
TZOFFSETTO:+0200
TZNAME:CEST
DTSTART:20240331T010000
END:DAYLIGHT
BEGIN:STANDARD
TZOFFSETFROM:+0200
TZOFFSETTO:+0100
TZNAME:CET
DTSTART:20241027T010000
END:STANDARD
BEGIN:DAYLIGHT
TZOFFSETFROM:+0100
TZOFFSETTO:+0200
TZNAME:CEST
DTSTART:20250330T010000
END:DAYLIGHT
BEGIN:STANDARD
TZOFFSETFROM:+0200
TZOFFSETTO:+0100
TZNAME:CET
DTSTART:20251026T010000
END:STANDARD
BEGIN:DAYLIGHT
TZOFFSETFROM:+0100
TZOFFSETTO:+0200
TZNAME:CEST
DTSTART:20260329T010000
END:DAYLIGHT
BEGIN:STANDARD
TZOFFSETFROM:+0200
TZOFFSETTO:+0100
TZNAME:CET
DTSTART:20261025T010000
END:STANDARD
END:VTIMEZONE
BEGIN:VEVENT
DTSTART;TZID=Europe/Paris:20250329T110000
DTEND;TZID=Europe/Paris:20250329T130000
DTSTAMP:20260423T134147
CREATED:20250325T151527Z
LAST-MODIFIED:20250325T151527Z
UID:10000073-1743246000-1743253200@open-eck.de
SUMMARY:Frühjahrsputz
DESCRIPTION:Als Teilnehmende der Luckenwalder Putzwoche\, sind auch wir am Samstag 29.03. ab 11 Uhr im Nuthepark und Umgebung zum Thema FÜR EINE SAUBERE STADT LUCKENWALDE unterwegs. \n  \nSandsieben beim Volleyballfeld\, Bänke putzen\, Reinigung der Grünflächen am Nuthepark und vieles mehr…wollt ihr uns und somit auch allen Luckenwaldern dabei helfen eine Wohlfühloase zu schaffen\, dann kommt dazu. \n  \nBringt einfach ein paar Hadschuhe und einen Müllsack mit und seid dabei! \n  \nWir freuen uns über jede Unterstützung.
URL:https://open-eck.de/event/fruehjahrsputz/
ATTACH;FMTTYPE=image/webp:https://open-eck.de/wp-content/uploads/2025/03/Fruehlingsreinigungskonzept.webp
END:VEVENT
BEGIN:VEVENT
DTSTART;TZID=Europe/Paris:20250329T160000
DTEND;TZID=Europe/Paris:20250329T190000
DTSTAMP:20260423T134147
CREATED:20250228T104754Z
LAST-MODIFIED:20250321T164254Z
UID:10000033-1743264000-1743274800@open-eck.de
SUMMARY:Buch Eck - Autorenlesung
DESCRIPTION:Lust auf Literatur! \nWir öffnen unsere Tür für eine monatliche Lesereihe\, und freuen uns Euch unsere erste Künstlerin vorstellen zu dürfen: \n  \nBITTERSCHÖN von Mayra Keil \n  \nDie Autorin Mayra Keil\, geboren 2003 in Berlin\, mittlerweile Wahlluckenwalderin und studierte Sozialarbeiterin\, stellt uns ihren Debutroman BITTERSCHÖN vor. Sie hat mit Poetry Slam angefangen\, dann ihren eigenen Stil gefunden – erst mit der Slam-Gruppe Rosenkrieg\, heute in Lyrik und Romanen\, oft mit einem Hauch Melancholie und viel Charme. \nIhr Debütroman BITTERSCHÖN erzählt vom prallen Leben – von Freundschaften\, die Generationen verbinden\, Grenzen überwinden und manchmal alles verändern. Inspirieren lassen? Am liebsten von großen Erzählern wie Ewald Arenz und Sibylle Berg – und natürlich vom echten Leben. \n  \nWir freuen uns Mayra und auch euch bei unserem allerersten Buch Eck zu begrüßen! \n  \nJeden letzten Montag im Monat ab April werden AutorenInnen ein Literaturerlebnis der besonderen Art entstehen lassen.
URL:https://open-eck.de/event/bucheck-2/
LOCATION:OpenEck\, Breite Straße 17\, Luckenwalde\, Brandenburg\, 14943\, Germany
ATTACH;FMTTYPE=image/png:https://open-eck.de/wp-content/uploads/2025/02/php4y6lAT_65cb48254895b1_57422076.png
END:VEVENT
END:VCALENDAR