BEGIN:VCALENDAR
VERSION:2.0
PRODID:-//Open Eck - ECPv6.15.20//NONSGML v1.0//EN
CALSCALE:GREGORIAN
METHOD:PUBLISH
X-WR-CALNAME:Open Eck
X-ORIGINAL-URL:https://open-eck.de
X-WR-CALDESC:Veranstaltungen für Open Eck
REFRESH-INTERVAL;VALUE=DURATION:PT1H
X-Robots-Tag:noindex
X-PUBLISHED-TTL:PT1H
BEGIN:VTIMEZONE
TZID:Europe/Paris
BEGIN:DAYLIGHT
TZOFFSETFROM:+0100
TZOFFSETTO:+0200
TZNAME:CEST
DTSTART:20250330T010000
END:DAYLIGHT
BEGIN:STANDARD
TZOFFSETFROM:+0200
TZOFFSETTO:+0100
TZNAME:CET
DTSTART:20251026T010000
END:STANDARD
BEGIN:DAYLIGHT
TZOFFSETFROM:+0100
TZOFFSETTO:+0200
TZNAME:CEST
DTSTART:20260329T010000
END:DAYLIGHT
BEGIN:STANDARD
TZOFFSETFROM:+0200
TZOFFSETTO:+0100
TZNAME:CET
DTSTART:20261025T010000
END:STANDARD
BEGIN:DAYLIGHT
TZOFFSETFROM:+0100
TZOFFSETTO:+0200
TZNAME:CEST
DTSTART:20270328T010000
END:DAYLIGHT
BEGIN:STANDARD
TZOFFSETFROM:+0200
TZOFFSETTO:+0100
TZNAME:CET
DTSTART:20271031T010000
END:STANDARD
END:VTIMEZONE
BEGIN:VEVENT
DTSTART;TZID=Europe/Paris:20260430T173000
DTEND;TZID=Europe/Paris:20260430T190000
DTSTAMP:20260424T152713
CREATED:20250916T095720Z
LAST-MODIFIED:20260302T163439Z
UID:10002618-1777570200-1777575600@open-eck.de
SUMMARY:Schreib-Treff
DESCRIPTION:Von Prosa bis Poesie – wer Freude am Spiel mit Worten hat\, ist hier genau richtig! \nEgal ob du noch an den Anfängen deiner Schreibreise stehst oder bereits ein erprobter Schreiber bist\, beim Schreibtreff sind alle willkommen. Hier kannst du dich mit anderen über eigene Projekte austauschen\, Feedback zu deinen Texten sammeln und dich in verschiedenen Schreibspielen neuen kreativen Herausforderungen stellen.
URL:https://open-eck.de/event/schreib-treff/2026-04-30/
LOCATION:OpenEck\, Breite Straße 17\, Luckenwalde\, Brandenburg\, 14943\, Germany
END:VEVENT
BEGIN:VEVENT
DTSTART;TZID=Europe/Paris:20260507T173000
DTEND;TZID=Europe/Paris:20260507T190000
DTSTAMP:20260424T152713
CREATED:20250916T095720Z
LAST-MODIFIED:20260302T163439Z
UID:10002619-1778175000-1778180400@open-eck.de
SUMMARY:Schreib-Treff
DESCRIPTION:Von Prosa bis Poesie – wer Freude am Spiel mit Worten hat\, ist hier genau richtig! \nEgal ob du noch an den Anfängen deiner Schreibreise stehst oder bereits ein erprobter Schreiber bist\, beim Schreibtreff sind alle willkommen. Hier kannst du dich mit anderen über eigene Projekte austauschen\, Feedback zu deinen Texten sammeln und dich in verschiedenen Schreibspielen neuen kreativen Herausforderungen stellen.
URL:https://open-eck.de/event/schreib-treff/2026-05-07/
LOCATION:OpenEck\, Breite Straße 17\, Luckenwalde\, Brandenburg\, 14943\, Germany
END:VEVENT
BEGIN:VEVENT
DTSTART;TZID=Europe/Paris:20260514T173000
DTEND;TZID=Europe/Paris:20260514T190000
DTSTAMP:20260424T152713
CREATED:20250916T095720Z
LAST-MODIFIED:20260302T163439Z
UID:10002620-1778779800-1778785200@open-eck.de
SUMMARY:Schreib-Treff
DESCRIPTION:Von Prosa bis Poesie – wer Freude am Spiel mit Worten hat\, ist hier genau richtig! \nEgal ob du noch an den Anfängen deiner Schreibreise stehst oder bereits ein erprobter Schreiber bist\, beim Schreibtreff sind alle willkommen. Hier kannst du dich mit anderen über eigene Projekte austauschen\, Feedback zu deinen Texten sammeln und dich in verschiedenen Schreibspielen neuen kreativen Herausforderungen stellen.
URL:https://open-eck.de/event/schreib-treff/2026-05-14/
LOCATION:OpenEck\, Breite Straße 17\, Luckenwalde\, Brandenburg\, 14943\, Germany
END:VEVENT
BEGIN:VEVENT
DTSTART;TZID=Europe/Paris:20260521T173000
DTEND;TZID=Europe/Paris:20260521T190000
DTSTAMP:20260424T152713
CREATED:20250916T095720Z
LAST-MODIFIED:20260302T163439Z
UID:10002621-1779384600-1779390000@open-eck.de
SUMMARY:Schreib-Treff
DESCRIPTION:Von Prosa bis Poesie – wer Freude am Spiel mit Worten hat\, ist hier genau richtig! \nEgal ob du noch an den Anfängen deiner Schreibreise stehst oder bereits ein erprobter Schreiber bist\, beim Schreibtreff sind alle willkommen. Hier kannst du dich mit anderen über eigene Projekte austauschen\, Feedback zu deinen Texten sammeln und dich in verschiedenen Schreibspielen neuen kreativen Herausforderungen stellen.
URL:https://open-eck.de/event/schreib-treff/2026-05-21/
LOCATION:OpenEck\, Breite Straße 17\, Luckenwalde\, Brandenburg\, 14943\, Germany
END:VEVENT
BEGIN:VEVENT
DTSTART;TZID=Europe/Paris:20260528T173000
DTEND;TZID=Europe/Paris:20260528T190000
DTSTAMP:20260424T152713
CREATED:20250916T095720Z
LAST-MODIFIED:20260302T163439Z
UID:10002622-1779989400-1779994800@open-eck.de
SUMMARY:Schreib-Treff
DESCRIPTION:Von Prosa bis Poesie – wer Freude am Spiel mit Worten hat\, ist hier genau richtig! \nEgal ob du noch an den Anfängen deiner Schreibreise stehst oder bereits ein erprobter Schreiber bist\, beim Schreibtreff sind alle willkommen. Hier kannst du dich mit anderen über eigene Projekte austauschen\, Feedback zu deinen Texten sammeln und dich in verschiedenen Schreibspielen neuen kreativen Herausforderungen stellen.
URL:https://open-eck.de/event/schreib-treff/2026-05-28/
LOCATION:OpenEck\, Breite Straße 17\, Luckenwalde\, Brandenburg\, 14943\, Germany
END:VEVENT
BEGIN:VEVENT
DTSTART;TZID=Europe/Paris:20260604T173000
DTEND;TZID=Europe/Paris:20260604T190000
DTSTAMP:20260424T152713
CREATED:20250916T095720Z
LAST-MODIFIED:20260302T163439Z
UID:10002623-1780594200-1780599600@open-eck.de
SUMMARY:Schreib-Treff
DESCRIPTION:Von Prosa bis Poesie – wer Freude am Spiel mit Worten hat\, ist hier genau richtig! \nEgal ob du noch an den Anfängen deiner Schreibreise stehst oder bereits ein erprobter Schreiber bist\, beim Schreibtreff sind alle willkommen. Hier kannst du dich mit anderen über eigene Projekte austauschen\, Feedback zu deinen Texten sammeln und dich in verschiedenen Schreibspielen neuen kreativen Herausforderungen stellen.
URL:https://open-eck.de/event/schreib-treff/2026-06-04/
LOCATION:OpenEck\, Breite Straße 17\, Luckenwalde\, Brandenburg\, 14943\, Germany
END:VEVENT
BEGIN:VEVENT
DTSTART;TZID=Europe/Paris:20260611T173000
DTEND;TZID=Europe/Paris:20260611T190000
DTSTAMP:20260424T152713
CREATED:20250916T095720Z
LAST-MODIFIED:20260302T163439Z
UID:10002624-1781199000-1781204400@open-eck.de
SUMMARY:Schreib-Treff
DESCRIPTION:Von Prosa bis Poesie – wer Freude am Spiel mit Worten hat\, ist hier genau richtig! \nEgal ob du noch an den Anfängen deiner Schreibreise stehst oder bereits ein erprobter Schreiber bist\, beim Schreibtreff sind alle willkommen. Hier kannst du dich mit anderen über eigene Projekte austauschen\, Feedback zu deinen Texten sammeln und dich in verschiedenen Schreibspielen neuen kreativen Herausforderungen stellen.
URL:https://open-eck.de/event/schreib-treff/2026-06-11/
LOCATION:OpenEck\, Breite Straße 17\, Luckenwalde\, Brandenburg\, 14943\, Germany
END:VEVENT
BEGIN:VEVENT
DTSTART;TZID=Europe/Paris:20260618T173000
DTEND;TZID=Europe/Paris:20260618T190000
DTSTAMP:20260424T152713
CREATED:20250916T095720Z
LAST-MODIFIED:20260302T163439Z
UID:10002625-1781803800-1781809200@open-eck.de
SUMMARY:Schreib-Treff
DESCRIPTION:Von Prosa bis Poesie – wer Freude am Spiel mit Worten hat\, ist hier genau richtig! \nEgal ob du noch an den Anfängen deiner Schreibreise stehst oder bereits ein erprobter Schreiber bist\, beim Schreibtreff sind alle willkommen. Hier kannst du dich mit anderen über eigene Projekte austauschen\, Feedback zu deinen Texten sammeln und dich in verschiedenen Schreibspielen neuen kreativen Herausforderungen stellen.
URL:https://open-eck.de/event/schreib-treff/2026-06-18/
LOCATION:OpenEck\, Breite Straße 17\, Luckenwalde\, Brandenburg\, 14943\, Germany
END:VEVENT
BEGIN:VEVENT
DTSTART;TZID=Europe/Paris:20260625T173000
DTEND;TZID=Europe/Paris:20260625T190000
DTSTAMP:20260424T152713
CREATED:20250916T095720Z
LAST-MODIFIED:20260302T163439Z
UID:10002626-1782408600-1782414000@open-eck.de
SUMMARY:Schreib-Treff
DESCRIPTION:Von Prosa bis Poesie – wer Freude am Spiel mit Worten hat\, ist hier genau richtig! \nEgal ob du noch an den Anfängen deiner Schreibreise stehst oder bereits ein erprobter Schreiber bist\, beim Schreibtreff sind alle willkommen. Hier kannst du dich mit anderen über eigene Projekte austauschen\, Feedback zu deinen Texten sammeln und dich in verschiedenen Schreibspielen neuen kreativen Herausforderungen stellen.
URL:https://open-eck.de/event/schreib-treff/2026-06-25/
LOCATION:OpenEck\, Breite Straße 17\, Luckenwalde\, Brandenburg\, 14943\, Germany
END:VEVENT
BEGIN:VEVENT
DTSTART;TZID=Europe/Paris:20260702T173000
DTEND;TZID=Europe/Paris:20260702T190000
DTSTAMP:20260424T152713
CREATED:20250916T095720Z
LAST-MODIFIED:20260302T163439Z
UID:10002627-1783013400-1783018800@open-eck.de
SUMMARY:Schreib-Treff
DESCRIPTION:Von Prosa bis Poesie – wer Freude am Spiel mit Worten hat\, ist hier genau richtig! \nEgal ob du noch an den Anfängen deiner Schreibreise stehst oder bereits ein erprobter Schreiber bist\, beim Schreibtreff sind alle willkommen. Hier kannst du dich mit anderen über eigene Projekte austauschen\, Feedback zu deinen Texten sammeln und dich in verschiedenen Schreibspielen neuen kreativen Herausforderungen stellen.
URL:https://open-eck.de/event/schreib-treff/2026-07-02/
LOCATION:OpenEck\, Breite Straße 17\, Luckenwalde\, Brandenburg\, 14943\, Germany
END:VEVENT
BEGIN:VEVENT
DTSTART;TZID=Europe/Paris:20260709T173000
DTEND;TZID=Europe/Paris:20260709T190000
DTSTAMP:20260424T152713
CREATED:20250916T095720Z
LAST-MODIFIED:20260302T163439Z
UID:10002628-1783618200-1783623600@open-eck.de
SUMMARY:Schreib-Treff
DESCRIPTION:Von Prosa bis Poesie – wer Freude am Spiel mit Worten hat\, ist hier genau richtig! \nEgal ob du noch an den Anfängen deiner Schreibreise stehst oder bereits ein erprobter Schreiber bist\, beim Schreibtreff sind alle willkommen. Hier kannst du dich mit anderen über eigene Projekte austauschen\, Feedback zu deinen Texten sammeln und dich in verschiedenen Schreibspielen neuen kreativen Herausforderungen stellen.
URL:https://open-eck.de/event/schreib-treff/2026-07-09/
LOCATION:OpenEck\, Breite Straße 17\, Luckenwalde\, Brandenburg\, 14943\, Germany
END:VEVENT
BEGIN:VEVENT
DTSTART;TZID=Europe/Paris:20260716T173000
DTEND;TZID=Europe/Paris:20260716T190000
DTSTAMP:20260424T152713
CREATED:20250916T095720Z
LAST-MODIFIED:20260302T163439Z
UID:10002629-1784223000-1784228400@open-eck.de
SUMMARY:Schreib-Treff
DESCRIPTION:Von Prosa bis Poesie – wer Freude am Spiel mit Worten hat\, ist hier genau richtig! \nEgal ob du noch an den Anfängen deiner Schreibreise stehst oder bereits ein erprobter Schreiber bist\, beim Schreibtreff sind alle willkommen. Hier kannst du dich mit anderen über eigene Projekte austauschen\, Feedback zu deinen Texten sammeln und dich in verschiedenen Schreibspielen neuen kreativen Herausforderungen stellen.
URL:https://open-eck.de/event/schreib-treff/2026-07-16/
LOCATION:OpenEck\, Breite Straße 17\, Luckenwalde\, Brandenburg\, 14943\, Germany
END:VEVENT
BEGIN:VEVENT
DTSTART;TZID=Europe/Paris:20260723T173000
DTEND;TZID=Europe/Paris:20260723T190000
DTSTAMP:20260424T152714
CREATED:20250916T095720Z
LAST-MODIFIED:20260302T163439Z
UID:10002630-1784827800-1784833200@open-eck.de
SUMMARY:Schreib-Treff
DESCRIPTION:Von Prosa bis Poesie – wer Freude am Spiel mit Worten hat\, ist hier genau richtig! \nEgal ob du noch an den Anfängen deiner Schreibreise stehst oder bereits ein erprobter Schreiber bist\, beim Schreibtreff sind alle willkommen. Hier kannst du dich mit anderen über eigene Projekte austauschen\, Feedback zu deinen Texten sammeln und dich in verschiedenen Schreibspielen neuen kreativen Herausforderungen stellen.
URL:https://open-eck.de/event/schreib-treff/2026-07-23/
LOCATION:OpenEck\, Breite Straße 17\, Luckenwalde\, Brandenburg\, 14943\, Germany
END:VEVENT
BEGIN:VEVENT
DTSTART;TZID=Europe/Paris:20260730T173000
DTEND;TZID=Europe/Paris:20260730T190000
DTSTAMP:20260424T152714
CREATED:20250916T095720Z
LAST-MODIFIED:20260302T163439Z
UID:10002631-1785432600-1785438000@open-eck.de
SUMMARY:Schreib-Treff
DESCRIPTION:Von Prosa bis Poesie – wer Freude am Spiel mit Worten hat\, ist hier genau richtig! \nEgal ob du noch an den Anfängen deiner Schreibreise stehst oder bereits ein erprobter Schreiber bist\, beim Schreibtreff sind alle willkommen. Hier kannst du dich mit anderen über eigene Projekte austauschen\, Feedback zu deinen Texten sammeln und dich in verschiedenen Schreibspielen neuen kreativen Herausforderungen stellen.
URL:https://open-eck.de/event/schreib-treff/2026-07-30/
LOCATION:OpenEck\, Breite Straße 17\, Luckenwalde\, Brandenburg\, 14943\, Germany
END:VEVENT
BEGIN:VEVENT
DTSTART;TZID=Europe/Paris:20260806T173000
DTEND;TZID=Europe/Paris:20260806T190000
DTSTAMP:20260424T152714
CREATED:20250916T095720Z
LAST-MODIFIED:20260302T163439Z
UID:10002632-1786037400-1786042800@open-eck.de
SUMMARY:Schreib-Treff
DESCRIPTION:Von Prosa bis Poesie – wer Freude am Spiel mit Worten hat\, ist hier genau richtig! \nEgal ob du noch an den Anfängen deiner Schreibreise stehst oder bereits ein erprobter Schreiber bist\, beim Schreibtreff sind alle willkommen. Hier kannst du dich mit anderen über eigene Projekte austauschen\, Feedback zu deinen Texten sammeln und dich in verschiedenen Schreibspielen neuen kreativen Herausforderungen stellen.
URL:https://open-eck.de/event/schreib-treff/2026-08-06/
LOCATION:OpenEck\, Breite Straße 17\, Luckenwalde\, Brandenburg\, 14943\, Germany
END:VEVENT
BEGIN:VEVENT
DTSTART;TZID=Europe/Paris:20260813T173000
DTEND;TZID=Europe/Paris:20260813T190000
DTSTAMP:20260424T152714
CREATED:20250916T095720Z
LAST-MODIFIED:20260302T163439Z
UID:10002633-1786642200-1786647600@open-eck.de
SUMMARY:Schreib-Treff
DESCRIPTION:Von Prosa bis Poesie – wer Freude am Spiel mit Worten hat\, ist hier genau richtig! \nEgal ob du noch an den Anfängen deiner Schreibreise stehst oder bereits ein erprobter Schreiber bist\, beim Schreibtreff sind alle willkommen. Hier kannst du dich mit anderen über eigene Projekte austauschen\, Feedback zu deinen Texten sammeln und dich in verschiedenen Schreibspielen neuen kreativen Herausforderungen stellen.
URL:https://open-eck.de/event/schreib-treff/2026-08-13/
LOCATION:OpenEck\, Breite Straße 17\, Luckenwalde\, Brandenburg\, 14943\, Germany
END:VEVENT
BEGIN:VEVENT
DTSTART;TZID=Europe/Paris:20260820T173000
DTEND;TZID=Europe/Paris:20260820T190000
DTSTAMP:20260424T152714
CREATED:20250916T095720Z
LAST-MODIFIED:20260302T163439Z
UID:10002634-1787247000-1787252400@open-eck.de
SUMMARY:Schreib-Treff
DESCRIPTION:Von Prosa bis Poesie – wer Freude am Spiel mit Worten hat\, ist hier genau richtig! \nEgal ob du noch an den Anfängen deiner Schreibreise stehst oder bereits ein erprobter Schreiber bist\, beim Schreibtreff sind alle willkommen. Hier kannst du dich mit anderen über eigene Projekte austauschen\, Feedback zu deinen Texten sammeln und dich in verschiedenen Schreibspielen neuen kreativen Herausforderungen stellen.
URL:https://open-eck.de/event/schreib-treff/2026-08-20/
LOCATION:OpenEck\, Breite Straße 17\, Luckenwalde\, Brandenburg\, 14943\, Germany
END:VEVENT
BEGIN:VEVENT
DTSTART;TZID=Europe/Paris:20260827T173000
DTEND;TZID=Europe/Paris:20260827T190000
DTSTAMP:20260424T152714
CREATED:20250916T095720Z
LAST-MODIFIED:20260302T163439Z
UID:10002635-1787851800-1787857200@open-eck.de
SUMMARY:Schreib-Treff
DESCRIPTION:Von Prosa bis Poesie – wer Freude am Spiel mit Worten hat\, ist hier genau richtig! \nEgal ob du noch an den Anfängen deiner Schreibreise stehst oder bereits ein erprobter Schreiber bist\, beim Schreibtreff sind alle willkommen. Hier kannst du dich mit anderen über eigene Projekte austauschen\, Feedback zu deinen Texten sammeln und dich in verschiedenen Schreibspielen neuen kreativen Herausforderungen stellen.
URL:https://open-eck.de/event/schreib-treff/2026-08-27/
LOCATION:OpenEck\, Breite Straße 17\, Luckenwalde\, Brandenburg\, 14943\, Germany
END:VEVENT
BEGIN:VEVENT
DTSTART;TZID=Europe/Paris:20260903T173000
DTEND;TZID=Europe/Paris:20260903T190000
DTSTAMP:20260424T152714
CREATED:20250916T095720Z
LAST-MODIFIED:20260302T163439Z
UID:10002636-1788456600-1788462000@open-eck.de
SUMMARY:Schreib-Treff
DESCRIPTION:Von Prosa bis Poesie – wer Freude am Spiel mit Worten hat\, ist hier genau richtig! \nEgal ob du noch an den Anfängen deiner Schreibreise stehst oder bereits ein erprobter Schreiber bist\, beim Schreibtreff sind alle willkommen. Hier kannst du dich mit anderen über eigene Projekte austauschen\, Feedback zu deinen Texten sammeln und dich in verschiedenen Schreibspielen neuen kreativen Herausforderungen stellen.
URL:https://open-eck.de/event/schreib-treff/2026-09-03/
LOCATION:OpenEck\, Breite Straße 17\, Luckenwalde\, Brandenburg\, 14943\, Germany
END:VEVENT
BEGIN:VEVENT
DTSTART;TZID=Europe/Paris:20260910T173000
DTEND;TZID=Europe/Paris:20260910T190000
DTSTAMP:20260424T152714
CREATED:20250916T095720Z
LAST-MODIFIED:20260302T163439Z
UID:10002637-1789061400-1789066800@open-eck.de
SUMMARY:Schreib-Treff
DESCRIPTION:Von Prosa bis Poesie – wer Freude am Spiel mit Worten hat\, ist hier genau richtig! \nEgal ob du noch an den Anfängen deiner Schreibreise stehst oder bereits ein erprobter Schreiber bist\, beim Schreibtreff sind alle willkommen. Hier kannst du dich mit anderen über eigene Projekte austauschen\, Feedback zu deinen Texten sammeln und dich in verschiedenen Schreibspielen neuen kreativen Herausforderungen stellen.
URL:https://open-eck.de/event/schreib-treff/2026-09-10/
LOCATION:OpenEck\, Breite Straße 17\, Luckenwalde\, Brandenburg\, 14943\, Germany
END:VEVENT
BEGIN:VEVENT
DTSTART;TZID=Europe/Paris:20260917T173000
DTEND;TZID=Europe/Paris:20260917T190000
DTSTAMP:20260424T152714
CREATED:20250916T095720Z
LAST-MODIFIED:20260302T163439Z
UID:10002638-1789666200-1789671600@open-eck.de
SUMMARY:Schreib-Treff
DESCRIPTION:Von Prosa bis Poesie – wer Freude am Spiel mit Worten hat\, ist hier genau richtig! \nEgal ob du noch an den Anfängen deiner Schreibreise stehst oder bereits ein erprobter Schreiber bist\, beim Schreibtreff sind alle willkommen. Hier kannst du dich mit anderen über eigene Projekte austauschen\, Feedback zu deinen Texten sammeln und dich in verschiedenen Schreibspielen neuen kreativen Herausforderungen stellen.
URL:https://open-eck.de/event/schreib-treff/2026-09-17/
LOCATION:OpenEck\, Breite Straße 17\, Luckenwalde\, Brandenburg\, 14943\, Germany
END:VEVENT
BEGIN:VEVENT
DTSTART;TZID=Europe/Paris:20260924T173000
DTEND;TZID=Europe/Paris:20260924T190000
DTSTAMP:20260424T152714
CREATED:20250916T095720Z
LAST-MODIFIED:20260302T163439Z
UID:10002639-1790271000-1790276400@open-eck.de
SUMMARY:Schreib-Treff
DESCRIPTION:Von Prosa bis Poesie – wer Freude am Spiel mit Worten hat\, ist hier genau richtig! \nEgal ob du noch an den Anfängen deiner Schreibreise stehst oder bereits ein erprobter Schreiber bist\, beim Schreibtreff sind alle willkommen. Hier kannst du dich mit anderen über eigene Projekte austauschen\, Feedback zu deinen Texten sammeln und dich in verschiedenen Schreibspielen neuen kreativen Herausforderungen stellen.
URL:https://open-eck.de/event/schreib-treff/2026-09-24/
LOCATION:OpenEck\, Breite Straße 17\, Luckenwalde\, Brandenburg\, 14943\, Germany
END:VEVENT
BEGIN:VEVENT
DTSTART;TZID=Europe/Paris:20261001T173000
DTEND;TZID=Europe/Paris:20261001T190000
DTSTAMP:20260424T152714
CREATED:20250916T095720Z
LAST-MODIFIED:20260302T163439Z
UID:10002640-1790875800-1790881200@open-eck.de
SUMMARY:Schreib-Treff
DESCRIPTION:Von Prosa bis Poesie – wer Freude am Spiel mit Worten hat\, ist hier genau richtig! \nEgal ob du noch an den Anfängen deiner Schreibreise stehst oder bereits ein erprobter Schreiber bist\, beim Schreibtreff sind alle willkommen. Hier kannst du dich mit anderen über eigene Projekte austauschen\, Feedback zu deinen Texten sammeln und dich in verschiedenen Schreibspielen neuen kreativen Herausforderungen stellen.
URL:https://open-eck.de/event/schreib-treff/2026-10-01/
LOCATION:OpenEck\, Breite Straße 17\, Luckenwalde\, Brandenburg\, 14943\, Germany
END:VEVENT
BEGIN:VEVENT
DTSTART;TZID=Europe/Paris:20261008T173000
DTEND;TZID=Europe/Paris:20261008T190000
DTSTAMP:20260424T152714
CREATED:20250916T095720Z
LAST-MODIFIED:20260302T163439Z
UID:10002641-1791480600-1791486000@open-eck.de
SUMMARY:Schreib-Treff
DESCRIPTION:Von Prosa bis Poesie – wer Freude am Spiel mit Worten hat\, ist hier genau richtig! \nEgal ob du noch an den Anfängen deiner Schreibreise stehst oder bereits ein erprobter Schreiber bist\, beim Schreibtreff sind alle willkommen. Hier kannst du dich mit anderen über eigene Projekte austauschen\, Feedback zu deinen Texten sammeln und dich in verschiedenen Schreibspielen neuen kreativen Herausforderungen stellen.
URL:https://open-eck.de/event/schreib-treff/2026-10-08/
LOCATION:OpenEck\, Breite Straße 17\, Luckenwalde\, Brandenburg\, 14943\, Germany
END:VEVENT
BEGIN:VEVENT
DTSTART;TZID=Europe/Paris:20261015T173000
DTEND;TZID=Europe/Paris:20261015T190000
DTSTAMP:20260424T152714
CREATED:20250916T095720Z
LAST-MODIFIED:20260302T163439Z
UID:10002642-1792085400-1792090800@open-eck.de
SUMMARY:Schreib-Treff
DESCRIPTION:Von Prosa bis Poesie – wer Freude am Spiel mit Worten hat\, ist hier genau richtig! \nEgal ob du noch an den Anfängen deiner Schreibreise stehst oder bereits ein erprobter Schreiber bist\, beim Schreibtreff sind alle willkommen. Hier kannst du dich mit anderen über eigene Projekte austauschen\, Feedback zu deinen Texten sammeln und dich in verschiedenen Schreibspielen neuen kreativen Herausforderungen stellen.
URL:https://open-eck.de/event/schreib-treff/2026-10-15/
LOCATION:OpenEck\, Breite Straße 17\, Luckenwalde\, Brandenburg\, 14943\, Germany
END:VEVENT
BEGIN:VEVENT
DTSTART;TZID=Europe/Paris:20261022T173000
DTEND;TZID=Europe/Paris:20261022T190000
DTSTAMP:20260424T152714
CREATED:20250916T095720Z
LAST-MODIFIED:20260302T163439Z
UID:10002643-1792690200-1792695600@open-eck.de
SUMMARY:Schreib-Treff
DESCRIPTION:Von Prosa bis Poesie – wer Freude am Spiel mit Worten hat\, ist hier genau richtig! \nEgal ob du noch an den Anfängen deiner Schreibreise stehst oder bereits ein erprobter Schreiber bist\, beim Schreibtreff sind alle willkommen. Hier kannst du dich mit anderen über eigene Projekte austauschen\, Feedback zu deinen Texten sammeln und dich in verschiedenen Schreibspielen neuen kreativen Herausforderungen stellen.
URL:https://open-eck.de/event/schreib-treff/2026-10-22/
LOCATION:OpenEck\, Breite Straße 17\, Luckenwalde\, Brandenburg\, 14943\, Germany
END:VEVENT
BEGIN:VEVENT
DTSTART;TZID=Europe/Paris:20261029T173000
DTEND;TZID=Europe/Paris:20261029T190000
DTSTAMP:20260424T152714
CREATED:20250916T095720Z
LAST-MODIFIED:20260302T163439Z
UID:10002644-1793295000-1793300400@open-eck.de
SUMMARY:Schreib-Treff
DESCRIPTION:Von Prosa bis Poesie – wer Freude am Spiel mit Worten hat\, ist hier genau richtig! \nEgal ob du noch an den Anfängen deiner Schreibreise stehst oder bereits ein erprobter Schreiber bist\, beim Schreibtreff sind alle willkommen. Hier kannst du dich mit anderen über eigene Projekte austauschen\, Feedback zu deinen Texten sammeln und dich in verschiedenen Schreibspielen neuen kreativen Herausforderungen stellen.
URL:https://open-eck.de/event/schreib-treff/2026-10-29/
LOCATION:OpenEck\, Breite Straße 17\, Luckenwalde\, Brandenburg\, 14943\, Germany
END:VEVENT
BEGIN:VEVENT
DTSTART;TZID=Europe/Paris:20261105T173000
DTEND;TZID=Europe/Paris:20261105T190000
DTSTAMP:20260424T152714
CREATED:20250916T095720Z
LAST-MODIFIED:20260302T163439Z
UID:10002645-1793899800-1793905200@open-eck.de
SUMMARY:Schreib-Treff
DESCRIPTION:Von Prosa bis Poesie – wer Freude am Spiel mit Worten hat\, ist hier genau richtig! \nEgal ob du noch an den Anfängen deiner Schreibreise stehst oder bereits ein erprobter Schreiber bist\, beim Schreibtreff sind alle willkommen. Hier kannst du dich mit anderen über eigene Projekte austauschen\, Feedback zu deinen Texten sammeln und dich in verschiedenen Schreibspielen neuen kreativen Herausforderungen stellen.
URL:https://open-eck.de/event/schreib-treff/2026-11-05/
LOCATION:OpenEck\, Breite Straße 17\, Luckenwalde\, Brandenburg\, 14943\, Germany
END:VEVENT
BEGIN:VEVENT
DTSTART;TZID=Europe/Paris:20261112T173000
DTEND;TZID=Europe/Paris:20261112T190000
DTSTAMP:20260424T152714
CREATED:20250916T095720Z
LAST-MODIFIED:20260302T163439Z
UID:10002646-1794504600-1794510000@open-eck.de
SUMMARY:Schreib-Treff
DESCRIPTION:Von Prosa bis Poesie – wer Freude am Spiel mit Worten hat\, ist hier genau richtig! \nEgal ob du noch an den Anfängen deiner Schreibreise stehst oder bereits ein erprobter Schreiber bist\, beim Schreibtreff sind alle willkommen. Hier kannst du dich mit anderen über eigene Projekte austauschen\, Feedback zu deinen Texten sammeln und dich in verschiedenen Schreibspielen neuen kreativen Herausforderungen stellen.
URL:https://open-eck.de/event/schreib-treff/2026-11-12/
LOCATION:OpenEck\, Breite Straße 17\, Luckenwalde\, Brandenburg\, 14943\, Germany
END:VEVENT
BEGIN:VEVENT
DTSTART;TZID=Europe/Paris:20261119T173000
DTEND;TZID=Europe/Paris:20261119T190000
DTSTAMP:20260424T152714
CREATED:20250916T095720Z
LAST-MODIFIED:20260302T163439Z
UID:10002647-1795109400-1795114800@open-eck.de
SUMMARY:Schreib-Treff
DESCRIPTION:Von Prosa bis Poesie – wer Freude am Spiel mit Worten hat\, ist hier genau richtig! \nEgal ob du noch an den Anfängen deiner Schreibreise stehst oder bereits ein erprobter Schreiber bist\, beim Schreibtreff sind alle willkommen. Hier kannst du dich mit anderen über eigene Projekte austauschen\, Feedback zu deinen Texten sammeln und dich in verschiedenen Schreibspielen neuen kreativen Herausforderungen stellen.
URL:https://open-eck.de/event/schreib-treff/2026-11-19/
LOCATION:OpenEck\, Breite Straße 17\, Luckenwalde\, Brandenburg\, 14943\, Germany
END:VEVENT
END:VCALENDAR