BEGIN:VCALENDAR
VERSION:2.0
PRODID:-//Open Eck - ECPv6.15.20//NONSGML v1.0//EN
CALSCALE:GREGORIAN
METHOD:PUBLISH
X-WR-CALNAME:Open Eck
X-ORIGINAL-URL:https://open-eck.de
X-WR-CALDESC:Veranstaltungen für Open Eck
REFRESH-INTERVAL;VALUE=DURATION:PT1H
X-Robots-Tag:noindex
X-PUBLISHED-TTL:PT1H
BEGIN:VTIMEZONE
TZID:Europe/Paris
BEGIN:DAYLIGHT
TZOFFSETFROM:+0100
TZOFFSETTO:+0200
TZNAME:CEST
DTSTART:20250330T010000
END:DAYLIGHT
BEGIN:STANDARD
TZOFFSETFROM:+0200
TZOFFSETTO:+0100
TZNAME:CET
DTSTART:20251026T010000
END:STANDARD
BEGIN:DAYLIGHT
TZOFFSETFROM:+0100
TZOFFSETTO:+0200
TZNAME:CEST
DTSTART:20260329T010000
END:DAYLIGHT
BEGIN:STANDARD
TZOFFSETFROM:+0200
TZOFFSETTO:+0100
TZNAME:CET
DTSTART:20261025T010000
END:STANDARD
BEGIN:DAYLIGHT
TZOFFSETFROM:+0100
TZOFFSETTO:+0200
TZNAME:CEST
DTSTART:20270328T010000
END:DAYLIGHT
BEGIN:STANDARD
TZOFFSETFROM:+0200
TZOFFSETTO:+0100
TZNAME:CET
DTSTART:20271031T010000
END:STANDARD
BEGIN:DAYLIGHT
TZOFFSETFROM:+0100
TZOFFSETTO:+0200
TZNAME:CEST
DTSTART:20280326T010000
END:DAYLIGHT
BEGIN:STANDARD
TZOFFSETFROM:+0200
TZOFFSETTO:+0100
TZNAME:CET
DTSTART:20281029T010000
END:STANDARD
END:VTIMEZONE
BEGIN:VEVENT
DTSTART;TZID=Europe/Paris:20260502T100000
DTEND;TZID=Europe/Paris:20260502T120000
DTSTAMP:20260423T105020
CREATED:20250828T185028Z
LAST-MODIFIED:20260320T121352Z
UID:10004568-1777716000-1777723200@open-eck.de
SUMMARY:Digitale Hilfe
DESCRIPTION:Neu im Open Eck: Digitale Hilfe für alle! \nDu hast Fragen zu deinem Handy\, Laptop oder Tablet? Deine Apps machen nicht\, was sie sollen\, oder du möchtest sicherer im Umgang mit Technik werden? Keine Sorge – wir sind für dich da! \n🔹 Jeden zweiten Samstag 10 – 12 Uhr\n🔹 Mit Doreen\, unserer IT-Expertin\n🔹 Im Open Eck \nKomm vorbei\, wenn du Unterstützung brauchst – egal\, ob es ums E-Mail-Schreiben\, das Einrichten von Apps oder allgemeine IT-Fragen geht. Wir helfen dir gerne!
URL:https://open-eck.de/event/digitale-hilfe-12/2026-05-02/
LOCATION:OpenEck\, Breite Straße 17\, Luckenwalde\, Brandenburg\, 14943\, Germany
END:VEVENT
BEGIN:VEVENT
DTSTART;TZID=Europe/Paris:20260516T100000
DTEND;TZID=Europe/Paris:20260516T120000
DTSTAMP:20260423T105020
CREATED:20250828T185028Z
LAST-MODIFIED:20260320T121352Z
UID:10004569-1778925600-1778932800@open-eck.de
SUMMARY:Digitale Hilfe
DESCRIPTION:Neu im Open Eck: Digitale Hilfe für alle! \nDu hast Fragen zu deinem Handy\, Laptop oder Tablet? Deine Apps machen nicht\, was sie sollen\, oder du möchtest sicherer im Umgang mit Technik werden? Keine Sorge – wir sind für dich da! \n🔹 Jeden zweiten Samstag 10 – 12 Uhr\n🔹 Mit Doreen\, unserer IT-Expertin\n🔹 Im Open Eck \nKomm vorbei\, wenn du Unterstützung brauchst – egal\, ob es ums E-Mail-Schreiben\, das Einrichten von Apps oder allgemeine IT-Fragen geht. Wir helfen dir gerne!
URL:https://open-eck.de/event/digitale-hilfe-12/2026-05-16/
LOCATION:OpenEck\, Breite Straße 17\, Luckenwalde\, Brandenburg\, 14943\, Germany
END:VEVENT
BEGIN:VEVENT
DTSTART;TZID=Europe/Paris:20260530T100000
DTEND;TZID=Europe/Paris:20260530T120000
DTSTAMP:20260423T105020
CREATED:20250828T185028Z
LAST-MODIFIED:20260320T121352Z
UID:10004570-1780135200-1780142400@open-eck.de
SUMMARY:Digitale Hilfe
DESCRIPTION:Neu im Open Eck: Digitale Hilfe für alle! \nDu hast Fragen zu deinem Handy\, Laptop oder Tablet? Deine Apps machen nicht\, was sie sollen\, oder du möchtest sicherer im Umgang mit Technik werden? Keine Sorge – wir sind für dich da! \n🔹 Jeden zweiten Samstag 10 – 12 Uhr\n🔹 Mit Doreen\, unserer IT-Expertin\n🔹 Im Open Eck \nKomm vorbei\, wenn du Unterstützung brauchst – egal\, ob es ums E-Mail-Schreiben\, das Einrichten von Apps oder allgemeine IT-Fragen geht. Wir helfen dir gerne!
URL:https://open-eck.de/event/digitale-hilfe-12/2026-05-30/
LOCATION:OpenEck\, Breite Straße 17\, Luckenwalde\, Brandenburg\, 14943\, Germany
END:VEVENT
BEGIN:VEVENT
DTSTART;TZID=Europe/Paris:20260613T100000
DTEND;TZID=Europe/Paris:20260613T120000
DTSTAMP:20260423T105020
CREATED:20250828T185028Z
LAST-MODIFIED:20260320T121352Z
UID:10004571-1781344800-1781352000@open-eck.de
SUMMARY:Digitale Hilfe
DESCRIPTION:Neu im Open Eck: Digitale Hilfe für alle! \nDu hast Fragen zu deinem Handy\, Laptop oder Tablet? Deine Apps machen nicht\, was sie sollen\, oder du möchtest sicherer im Umgang mit Technik werden? Keine Sorge – wir sind für dich da! \n🔹 Jeden zweiten Samstag 10 – 12 Uhr\n🔹 Mit Doreen\, unserer IT-Expertin\n🔹 Im Open Eck \nKomm vorbei\, wenn du Unterstützung brauchst – egal\, ob es ums E-Mail-Schreiben\, das Einrichten von Apps oder allgemeine IT-Fragen geht. Wir helfen dir gerne!
URL:https://open-eck.de/event/digitale-hilfe-12/2026-06-13/
LOCATION:OpenEck\, Breite Straße 17\, Luckenwalde\, Brandenburg\, 14943\, Germany
END:VEVENT
BEGIN:VEVENT
DTSTART;TZID=Europe/Paris:20260627T100000
DTEND;TZID=Europe/Paris:20260627T120000
DTSTAMP:20260423T105020
CREATED:20250828T185028Z
LAST-MODIFIED:20260320T121352Z
UID:10004572-1782554400-1782561600@open-eck.de
SUMMARY:Digitale Hilfe
DESCRIPTION:Neu im Open Eck: Digitale Hilfe für alle! \nDu hast Fragen zu deinem Handy\, Laptop oder Tablet? Deine Apps machen nicht\, was sie sollen\, oder du möchtest sicherer im Umgang mit Technik werden? Keine Sorge – wir sind für dich da! \n🔹 Jeden zweiten Samstag 10 – 12 Uhr\n🔹 Mit Doreen\, unserer IT-Expertin\n🔹 Im Open Eck \nKomm vorbei\, wenn du Unterstützung brauchst – egal\, ob es ums E-Mail-Schreiben\, das Einrichten von Apps oder allgemeine IT-Fragen geht. Wir helfen dir gerne!
URL:https://open-eck.de/event/digitale-hilfe-12/2026-06-27/
LOCATION:OpenEck\, Breite Straße 17\, Luckenwalde\, Brandenburg\, 14943\, Germany
END:VEVENT
BEGIN:VEVENT
DTSTART;TZID=Europe/Paris:20260711T100000
DTEND;TZID=Europe/Paris:20260711T120000
DTSTAMP:20260423T105020
CREATED:20250828T185028Z
LAST-MODIFIED:20260320T121352Z
UID:10004573-1783764000-1783771200@open-eck.de
SUMMARY:Digitale Hilfe
DESCRIPTION:Neu im Open Eck: Digitale Hilfe für alle! \nDu hast Fragen zu deinem Handy\, Laptop oder Tablet? Deine Apps machen nicht\, was sie sollen\, oder du möchtest sicherer im Umgang mit Technik werden? Keine Sorge – wir sind für dich da! \n🔹 Jeden zweiten Samstag 10 – 12 Uhr\n🔹 Mit Doreen\, unserer IT-Expertin\n🔹 Im Open Eck \nKomm vorbei\, wenn du Unterstützung brauchst – egal\, ob es ums E-Mail-Schreiben\, das Einrichten von Apps oder allgemeine IT-Fragen geht. Wir helfen dir gerne!
URL:https://open-eck.de/event/digitale-hilfe-12/2026-07-11/
LOCATION:OpenEck\, Breite Straße 17\, Luckenwalde\, Brandenburg\, 14943\, Germany
END:VEVENT
BEGIN:VEVENT
DTSTART;TZID=Europe/Paris:20260725T100000
DTEND;TZID=Europe/Paris:20260725T120000
DTSTAMP:20260423T105020
CREATED:20250828T185028Z
LAST-MODIFIED:20260320T121352Z
UID:10004574-1784973600-1784980800@open-eck.de
SUMMARY:Digitale Hilfe
DESCRIPTION:Neu im Open Eck: Digitale Hilfe für alle! \nDu hast Fragen zu deinem Handy\, Laptop oder Tablet? Deine Apps machen nicht\, was sie sollen\, oder du möchtest sicherer im Umgang mit Technik werden? Keine Sorge – wir sind für dich da! \n🔹 Jeden zweiten Samstag 10 – 12 Uhr\n🔹 Mit Doreen\, unserer IT-Expertin\n🔹 Im Open Eck \nKomm vorbei\, wenn du Unterstützung brauchst – egal\, ob es ums E-Mail-Schreiben\, das Einrichten von Apps oder allgemeine IT-Fragen geht. Wir helfen dir gerne!
URL:https://open-eck.de/event/digitale-hilfe-12/2026-07-25/
LOCATION:OpenEck\, Breite Straße 17\, Luckenwalde\, Brandenburg\, 14943\, Germany
END:VEVENT
BEGIN:VEVENT
DTSTART;TZID=Europe/Paris:20260808T100000
DTEND;TZID=Europe/Paris:20260808T120000
DTSTAMP:20260423T105020
CREATED:20250828T185028Z
LAST-MODIFIED:20260320T121352Z
UID:10004575-1786183200-1786190400@open-eck.de
SUMMARY:Digitale Hilfe
DESCRIPTION:Neu im Open Eck: Digitale Hilfe für alle! \nDu hast Fragen zu deinem Handy\, Laptop oder Tablet? Deine Apps machen nicht\, was sie sollen\, oder du möchtest sicherer im Umgang mit Technik werden? Keine Sorge – wir sind für dich da! \n🔹 Jeden zweiten Samstag 10 – 12 Uhr\n🔹 Mit Doreen\, unserer IT-Expertin\n🔹 Im Open Eck \nKomm vorbei\, wenn du Unterstützung brauchst – egal\, ob es ums E-Mail-Schreiben\, das Einrichten von Apps oder allgemeine IT-Fragen geht. Wir helfen dir gerne!
URL:https://open-eck.de/event/digitale-hilfe-12/2026-08-08/
LOCATION:OpenEck\, Breite Straße 17\, Luckenwalde\, Brandenburg\, 14943\, Germany
END:VEVENT
BEGIN:VEVENT
DTSTART;TZID=Europe/Paris:20260822T100000
DTEND;TZID=Europe/Paris:20260822T120000
DTSTAMP:20260423T105020
CREATED:20250828T185028Z
LAST-MODIFIED:20260320T121352Z
UID:10004576-1787392800-1787400000@open-eck.de
SUMMARY:Digitale Hilfe
DESCRIPTION:Neu im Open Eck: Digitale Hilfe für alle! \nDu hast Fragen zu deinem Handy\, Laptop oder Tablet? Deine Apps machen nicht\, was sie sollen\, oder du möchtest sicherer im Umgang mit Technik werden? Keine Sorge – wir sind für dich da! \n🔹 Jeden zweiten Samstag 10 – 12 Uhr\n🔹 Mit Doreen\, unserer IT-Expertin\n🔹 Im Open Eck \nKomm vorbei\, wenn du Unterstützung brauchst – egal\, ob es ums E-Mail-Schreiben\, das Einrichten von Apps oder allgemeine IT-Fragen geht. Wir helfen dir gerne!
URL:https://open-eck.de/event/digitale-hilfe-12/2026-08-22/
LOCATION:OpenEck\, Breite Straße 17\, Luckenwalde\, Brandenburg\, 14943\, Germany
END:VEVENT
BEGIN:VEVENT
DTSTART;TZID=Europe/Paris:20260905T100000
DTEND;TZID=Europe/Paris:20260905T120000
DTSTAMP:20260423T105020
CREATED:20250828T185028Z
LAST-MODIFIED:20260320T121352Z
UID:10004577-1788602400-1788609600@open-eck.de
SUMMARY:Digitale Hilfe
DESCRIPTION:Neu im Open Eck: Digitale Hilfe für alle! \nDu hast Fragen zu deinem Handy\, Laptop oder Tablet? Deine Apps machen nicht\, was sie sollen\, oder du möchtest sicherer im Umgang mit Technik werden? Keine Sorge – wir sind für dich da! \n🔹 Jeden zweiten Samstag 10 – 12 Uhr\n🔹 Mit Doreen\, unserer IT-Expertin\n🔹 Im Open Eck \nKomm vorbei\, wenn du Unterstützung brauchst – egal\, ob es ums E-Mail-Schreiben\, das Einrichten von Apps oder allgemeine IT-Fragen geht. Wir helfen dir gerne!
URL:https://open-eck.de/event/digitale-hilfe-12/2026-09-05/
LOCATION:OpenEck\, Breite Straße 17\, Luckenwalde\, Brandenburg\, 14943\, Germany
END:VEVENT
BEGIN:VEVENT
DTSTART;TZID=Europe/Paris:20260919T100000
DTEND;TZID=Europe/Paris:20260919T120000
DTSTAMP:20260423T105020
CREATED:20250828T185028Z
LAST-MODIFIED:20260320T121352Z
UID:10004578-1789812000-1789819200@open-eck.de
SUMMARY:Digitale Hilfe
DESCRIPTION:Neu im Open Eck: Digitale Hilfe für alle! \nDu hast Fragen zu deinem Handy\, Laptop oder Tablet? Deine Apps machen nicht\, was sie sollen\, oder du möchtest sicherer im Umgang mit Technik werden? Keine Sorge – wir sind für dich da! \n🔹 Jeden zweiten Samstag 10 – 12 Uhr\n🔹 Mit Doreen\, unserer IT-Expertin\n🔹 Im Open Eck \nKomm vorbei\, wenn du Unterstützung brauchst – egal\, ob es ums E-Mail-Schreiben\, das Einrichten von Apps oder allgemeine IT-Fragen geht. Wir helfen dir gerne!
URL:https://open-eck.de/event/digitale-hilfe-12/2026-09-19/
LOCATION:OpenEck\, Breite Straße 17\, Luckenwalde\, Brandenburg\, 14943\, Germany
END:VEVENT
BEGIN:VEVENT
DTSTART;TZID=Europe/Paris:20261003T100000
DTEND;TZID=Europe/Paris:20261003T120000
DTSTAMP:20260423T105020
CREATED:20250828T185028Z
LAST-MODIFIED:20260320T121352Z
UID:10004579-1791021600-1791028800@open-eck.de
SUMMARY:Digitale Hilfe
DESCRIPTION:Neu im Open Eck: Digitale Hilfe für alle! \nDu hast Fragen zu deinem Handy\, Laptop oder Tablet? Deine Apps machen nicht\, was sie sollen\, oder du möchtest sicherer im Umgang mit Technik werden? Keine Sorge – wir sind für dich da! \n🔹 Jeden zweiten Samstag 10 – 12 Uhr\n🔹 Mit Doreen\, unserer IT-Expertin\n🔹 Im Open Eck \nKomm vorbei\, wenn du Unterstützung brauchst – egal\, ob es ums E-Mail-Schreiben\, das Einrichten von Apps oder allgemeine IT-Fragen geht. Wir helfen dir gerne!
URL:https://open-eck.de/event/digitale-hilfe-12/2026-10-03/
LOCATION:OpenEck\, Breite Straße 17\, Luckenwalde\, Brandenburg\, 14943\, Germany
END:VEVENT
BEGIN:VEVENT
DTSTART;TZID=Europe/Paris:20261017T100000
DTEND;TZID=Europe/Paris:20261017T120000
DTSTAMP:20260423T105020
CREATED:20250828T185028Z
LAST-MODIFIED:20260320T121352Z
UID:10004580-1792231200-1792238400@open-eck.de
SUMMARY:Digitale Hilfe
DESCRIPTION:Neu im Open Eck: Digitale Hilfe für alle! \nDu hast Fragen zu deinem Handy\, Laptop oder Tablet? Deine Apps machen nicht\, was sie sollen\, oder du möchtest sicherer im Umgang mit Technik werden? Keine Sorge – wir sind für dich da! \n🔹 Jeden zweiten Samstag 10 – 12 Uhr\n🔹 Mit Doreen\, unserer IT-Expertin\n🔹 Im Open Eck \nKomm vorbei\, wenn du Unterstützung brauchst – egal\, ob es ums E-Mail-Schreiben\, das Einrichten von Apps oder allgemeine IT-Fragen geht. Wir helfen dir gerne!
URL:https://open-eck.de/event/digitale-hilfe-12/2026-10-17/
LOCATION:OpenEck\, Breite Straße 17\, Luckenwalde\, Brandenburg\, 14943\, Germany
END:VEVENT
BEGIN:VEVENT
DTSTART;TZID=Europe/Paris:20261031T100000
DTEND;TZID=Europe/Paris:20261031T120000
DTSTAMP:20260423T105020
CREATED:20250828T185028Z
LAST-MODIFIED:20260320T121352Z
UID:10004581-1793440800-1793448000@open-eck.de
SUMMARY:Digitale Hilfe
DESCRIPTION:Neu im Open Eck: Digitale Hilfe für alle! \nDu hast Fragen zu deinem Handy\, Laptop oder Tablet? Deine Apps machen nicht\, was sie sollen\, oder du möchtest sicherer im Umgang mit Technik werden? Keine Sorge – wir sind für dich da! \n🔹 Jeden zweiten Samstag 10 – 12 Uhr\n🔹 Mit Doreen\, unserer IT-Expertin\n🔹 Im Open Eck \nKomm vorbei\, wenn du Unterstützung brauchst – egal\, ob es ums E-Mail-Schreiben\, das Einrichten von Apps oder allgemeine IT-Fragen geht. Wir helfen dir gerne!
URL:https://open-eck.de/event/digitale-hilfe-12/2026-10-31/
LOCATION:OpenEck\, Breite Straße 17\, Luckenwalde\, Brandenburg\, 14943\, Germany
END:VEVENT
BEGIN:VEVENT
DTSTART;TZID=Europe/Paris:20261114T100000
DTEND;TZID=Europe/Paris:20261114T120000
DTSTAMP:20260423T105020
CREATED:20250828T185028Z
LAST-MODIFIED:20260320T121352Z
UID:10004582-1794650400-1794657600@open-eck.de
SUMMARY:Digitale Hilfe
DESCRIPTION:Neu im Open Eck: Digitale Hilfe für alle! \nDu hast Fragen zu deinem Handy\, Laptop oder Tablet? Deine Apps machen nicht\, was sie sollen\, oder du möchtest sicherer im Umgang mit Technik werden? Keine Sorge – wir sind für dich da! \n🔹 Jeden zweiten Samstag 10 – 12 Uhr\n🔹 Mit Doreen\, unserer IT-Expertin\n🔹 Im Open Eck \nKomm vorbei\, wenn du Unterstützung brauchst – egal\, ob es ums E-Mail-Schreiben\, das Einrichten von Apps oder allgemeine IT-Fragen geht. Wir helfen dir gerne!
URL:https://open-eck.de/event/digitale-hilfe-12/2026-11-14/
LOCATION:OpenEck\, Breite Straße 17\, Luckenwalde\, Brandenburg\, 14943\, Germany
END:VEVENT
BEGIN:VEVENT
DTSTART;TZID=Europe/Paris:20261128T100000
DTEND;TZID=Europe/Paris:20261128T120000
DTSTAMP:20260423T105020
CREATED:20250828T185028Z
LAST-MODIFIED:20260320T121352Z
UID:10004583-1795860000-1795867200@open-eck.de
SUMMARY:Digitale Hilfe
DESCRIPTION:Neu im Open Eck: Digitale Hilfe für alle! \nDu hast Fragen zu deinem Handy\, Laptop oder Tablet? Deine Apps machen nicht\, was sie sollen\, oder du möchtest sicherer im Umgang mit Technik werden? Keine Sorge – wir sind für dich da! \n🔹 Jeden zweiten Samstag 10 – 12 Uhr\n🔹 Mit Doreen\, unserer IT-Expertin\n🔹 Im Open Eck \nKomm vorbei\, wenn du Unterstützung brauchst – egal\, ob es ums E-Mail-Schreiben\, das Einrichten von Apps oder allgemeine IT-Fragen geht. Wir helfen dir gerne!
URL:https://open-eck.de/event/digitale-hilfe-12/2026-11-28/
LOCATION:OpenEck\, Breite Straße 17\, Luckenwalde\, Brandenburg\, 14943\, Germany
END:VEVENT
BEGIN:VEVENT
DTSTART;TZID=Europe/Paris:20261212T100000
DTEND;TZID=Europe/Paris:20261212T120000
DTSTAMP:20260423T105020
CREATED:20250828T185028Z
LAST-MODIFIED:20260320T121352Z
UID:10004584-1797069600-1797076800@open-eck.de
SUMMARY:Digitale Hilfe
DESCRIPTION:Neu im Open Eck: Digitale Hilfe für alle! \nDu hast Fragen zu deinem Handy\, Laptop oder Tablet? Deine Apps machen nicht\, was sie sollen\, oder du möchtest sicherer im Umgang mit Technik werden? Keine Sorge – wir sind für dich da! \n🔹 Jeden zweiten Samstag 10 – 12 Uhr\n🔹 Mit Doreen\, unserer IT-Expertin\n🔹 Im Open Eck \nKomm vorbei\, wenn du Unterstützung brauchst – egal\, ob es ums E-Mail-Schreiben\, das Einrichten von Apps oder allgemeine IT-Fragen geht. Wir helfen dir gerne!
URL:https://open-eck.de/event/digitale-hilfe-12/2026-12-12/
LOCATION:OpenEck\, Breite Straße 17\, Luckenwalde\, Brandenburg\, 14943\, Germany
END:VEVENT
BEGIN:VEVENT
DTSTART;TZID=Europe/Paris:20261226T100000
DTEND;TZID=Europe/Paris:20261226T120000
DTSTAMP:20260423T105020
CREATED:20250828T185028Z
LAST-MODIFIED:20260320T121352Z
UID:10004585-1798279200-1798286400@open-eck.de
SUMMARY:Digitale Hilfe
DESCRIPTION:Neu im Open Eck: Digitale Hilfe für alle! \nDu hast Fragen zu deinem Handy\, Laptop oder Tablet? Deine Apps machen nicht\, was sie sollen\, oder du möchtest sicherer im Umgang mit Technik werden? Keine Sorge – wir sind für dich da! \n🔹 Jeden zweiten Samstag 10 – 12 Uhr\n🔹 Mit Doreen\, unserer IT-Expertin\n🔹 Im Open Eck \nKomm vorbei\, wenn du Unterstützung brauchst – egal\, ob es ums E-Mail-Schreiben\, das Einrichten von Apps oder allgemeine IT-Fragen geht. Wir helfen dir gerne!
URL:https://open-eck.de/event/digitale-hilfe-12/2026-12-26/
LOCATION:OpenEck\, Breite Straße 17\, Luckenwalde\, Brandenburg\, 14943\, Germany
END:VEVENT
BEGIN:VEVENT
DTSTART;TZID=Europe/Paris:20270109T100000
DTEND;TZID=Europe/Paris:20270109T120000
DTSTAMP:20260423T105020
CREATED:20250828T185028Z
LAST-MODIFIED:20260320T121352Z
UID:10004586-1799488800-1799496000@open-eck.de
SUMMARY:Digitale Hilfe
DESCRIPTION:Neu im Open Eck: Digitale Hilfe für alle! \nDu hast Fragen zu deinem Handy\, Laptop oder Tablet? Deine Apps machen nicht\, was sie sollen\, oder du möchtest sicherer im Umgang mit Technik werden? Keine Sorge – wir sind für dich da! \n🔹 Jeden zweiten Samstag 10 – 12 Uhr\n🔹 Mit Doreen\, unserer IT-Expertin\n🔹 Im Open Eck \nKomm vorbei\, wenn du Unterstützung brauchst – egal\, ob es ums E-Mail-Schreiben\, das Einrichten von Apps oder allgemeine IT-Fragen geht. Wir helfen dir gerne!
URL:https://open-eck.de/event/digitale-hilfe-12/2027-01-09/
LOCATION:OpenEck\, Breite Straße 17\, Luckenwalde\, Brandenburg\, 14943\, Germany
END:VEVENT
BEGIN:VEVENT
DTSTART;TZID=Europe/Paris:20270123T100000
DTEND;TZID=Europe/Paris:20270123T120000
DTSTAMP:20260423T105020
CREATED:20250828T185028Z
LAST-MODIFIED:20260320T121352Z
UID:10004587-1800698400-1800705600@open-eck.de
SUMMARY:Digitale Hilfe
DESCRIPTION:Neu im Open Eck: Digitale Hilfe für alle! \nDu hast Fragen zu deinem Handy\, Laptop oder Tablet? Deine Apps machen nicht\, was sie sollen\, oder du möchtest sicherer im Umgang mit Technik werden? Keine Sorge – wir sind für dich da! \n🔹 Jeden zweiten Samstag 10 – 12 Uhr\n🔹 Mit Doreen\, unserer IT-Expertin\n🔹 Im Open Eck \nKomm vorbei\, wenn du Unterstützung brauchst – egal\, ob es ums E-Mail-Schreiben\, das Einrichten von Apps oder allgemeine IT-Fragen geht. Wir helfen dir gerne!
URL:https://open-eck.de/event/digitale-hilfe-12/2027-01-23/
LOCATION:OpenEck\, Breite Straße 17\, Luckenwalde\, Brandenburg\, 14943\, Germany
END:VEVENT
BEGIN:VEVENT
DTSTART;TZID=Europe/Paris:20270206T100000
DTEND;TZID=Europe/Paris:20270206T120000
DTSTAMP:20260423T105020
CREATED:20250828T185028Z
LAST-MODIFIED:20260320T121352Z
UID:10004588-1801908000-1801915200@open-eck.de
SUMMARY:Digitale Hilfe
DESCRIPTION:Neu im Open Eck: Digitale Hilfe für alle! \nDu hast Fragen zu deinem Handy\, Laptop oder Tablet? Deine Apps machen nicht\, was sie sollen\, oder du möchtest sicherer im Umgang mit Technik werden? Keine Sorge – wir sind für dich da! \n🔹 Jeden zweiten Samstag 10 – 12 Uhr\n🔹 Mit Doreen\, unserer IT-Expertin\n🔹 Im Open Eck \nKomm vorbei\, wenn du Unterstützung brauchst – egal\, ob es ums E-Mail-Schreiben\, das Einrichten von Apps oder allgemeine IT-Fragen geht. Wir helfen dir gerne!
URL:https://open-eck.de/event/digitale-hilfe-12/2027-02-06/
LOCATION:OpenEck\, Breite Straße 17\, Luckenwalde\, Brandenburg\, 14943\, Germany
END:VEVENT
BEGIN:VEVENT
DTSTART;TZID=Europe/Paris:20270220T100000
DTEND;TZID=Europe/Paris:20270220T120000
DTSTAMP:20260423T105020
CREATED:20250828T185028Z
LAST-MODIFIED:20260320T121352Z
UID:10004589-1803117600-1803124800@open-eck.de
SUMMARY:Digitale Hilfe
DESCRIPTION:Neu im Open Eck: Digitale Hilfe für alle! \nDu hast Fragen zu deinem Handy\, Laptop oder Tablet? Deine Apps machen nicht\, was sie sollen\, oder du möchtest sicherer im Umgang mit Technik werden? Keine Sorge – wir sind für dich da! \n🔹 Jeden zweiten Samstag 10 – 12 Uhr\n🔹 Mit Doreen\, unserer IT-Expertin\n🔹 Im Open Eck \nKomm vorbei\, wenn du Unterstützung brauchst – egal\, ob es ums E-Mail-Schreiben\, das Einrichten von Apps oder allgemeine IT-Fragen geht. Wir helfen dir gerne!
URL:https://open-eck.de/event/digitale-hilfe-12/2027-02-20/
LOCATION:OpenEck\, Breite Straße 17\, Luckenwalde\, Brandenburg\, 14943\, Germany
END:VEVENT
BEGIN:VEVENT
DTSTART;TZID=Europe/Paris:20270306T100000
DTEND;TZID=Europe/Paris:20270306T120000
DTSTAMP:20260423T105020
CREATED:20250828T185028Z
LAST-MODIFIED:20260320T121352Z
UID:10004590-1804327200-1804334400@open-eck.de
SUMMARY:Digitale Hilfe
DESCRIPTION:Neu im Open Eck: Digitale Hilfe für alle! \nDu hast Fragen zu deinem Handy\, Laptop oder Tablet? Deine Apps machen nicht\, was sie sollen\, oder du möchtest sicherer im Umgang mit Technik werden? Keine Sorge – wir sind für dich da! \n🔹 Jeden zweiten Samstag 10 – 12 Uhr\n🔹 Mit Doreen\, unserer IT-Expertin\n🔹 Im Open Eck \nKomm vorbei\, wenn du Unterstützung brauchst – egal\, ob es ums E-Mail-Schreiben\, das Einrichten von Apps oder allgemeine IT-Fragen geht. Wir helfen dir gerne!
URL:https://open-eck.de/event/digitale-hilfe-12/2027-03-06/
LOCATION:OpenEck\, Breite Straße 17\, Luckenwalde\, Brandenburg\, 14943\, Germany
END:VEVENT
BEGIN:VEVENT
DTSTART;TZID=Europe/Paris:20270320T100000
DTEND;TZID=Europe/Paris:20270320T120000
DTSTAMP:20260423T105020
CREATED:20250828T185028Z
LAST-MODIFIED:20260320T121352Z
UID:10004591-1805536800-1805544000@open-eck.de
SUMMARY:Digitale Hilfe
DESCRIPTION:Neu im Open Eck: Digitale Hilfe für alle! \nDu hast Fragen zu deinem Handy\, Laptop oder Tablet? Deine Apps machen nicht\, was sie sollen\, oder du möchtest sicherer im Umgang mit Technik werden? Keine Sorge – wir sind für dich da! \n🔹 Jeden zweiten Samstag 10 – 12 Uhr\n🔹 Mit Doreen\, unserer IT-Expertin\n🔹 Im Open Eck \nKomm vorbei\, wenn du Unterstützung brauchst – egal\, ob es ums E-Mail-Schreiben\, das Einrichten von Apps oder allgemeine IT-Fragen geht. Wir helfen dir gerne!
URL:https://open-eck.de/event/digitale-hilfe-12/2027-03-20/
LOCATION:OpenEck\, Breite Straße 17\, Luckenwalde\, Brandenburg\, 14943\, Germany
END:VEVENT
BEGIN:VEVENT
DTSTART;TZID=Europe/Paris:20270403T100000
DTEND;TZID=Europe/Paris:20270403T120000
DTSTAMP:20260423T105020
CREATED:20250828T185028Z
LAST-MODIFIED:20260320T121352Z
UID:10004592-1806746400-1806753600@open-eck.de
SUMMARY:Digitale Hilfe
DESCRIPTION:Neu im Open Eck: Digitale Hilfe für alle! \nDu hast Fragen zu deinem Handy\, Laptop oder Tablet? Deine Apps machen nicht\, was sie sollen\, oder du möchtest sicherer im Umgang mit Technik werden? Keine Sorge – wir sind für dich da! \n🔹 Jeden zweiten Samstag 10 – 12 Uhr\n🔹 Mit Doreen\, unserer IT-Expertin\n🔹 Im Open Eck \nKomm vorbei\, wenn du Unterstützung brauchst – egal\, ob es ums E-Mail-Schreiben\, das Einrichten von Apps oder allgemeine IT-Fragen geht. Wir helfen dir gerne!
URL:https://open-eck.de/event/digitale-hilfe-12/2027-04-03/
LOCATION:OpenEck\, Breite Straße 17\, Luckenwalde\, Brandenburg\, 14943\, Germany
END:VEVENT
BEGIN:VEVENT
DTSTART;TZID=Europe/Paris:20270417T100000
DTEND;TZID=Europe/Paris:20270417T120000
DTSTAMP:20260423T105020
CREATED:20250828T185028Z
LAST-MODIFIED:20260320T121352Z
UID:10004593-1807956000-1807963200@open-eck.de
SUMMARY:Digitale Hilfe
DESCRIPTION:Neu im Open Eck: Digitale Hilfe für alle! \nDu hast Fragen zu deinem Handy\, Laptop oder Tablet? Deine Apps machen nicht\, was sie sollen\, oder du möchtest sicherer im Umgang mit Technik werden? Keine Sorge – wir sind für dich da! \n🔹 Jeden zweiten Samstag 10 – 12 Uhr\n🔹 Mit Doreen\, unserer IT-Expertin\n🔹 Im Open Eck \nKomm vorbei\, wenn du Unterstützung brauchst – egal\, ob es ums E-Mail-Schreiben\, das Einrichten von Apps oder allgemeine IT-Fragen geht. Wir helfen dir gerne!
URL:https://open-eck.de/event/digitale-hilfe-12/2027-04-17/
LOCATION:OpenEck\, Breite Straße 17\, Luckenwalde\, Brandenburg\, 14943\, Germany
END:VEVENT
BEGIN:VEVENT
DTSTART;TZID=Europe/Paris:20270501T100000
DTEND;TZID=Europe/Paris:20270501T120000
DTSTAMP:20260423T105020
CREATED:20250828T185028Z
LAST-MODIFIED:20260320T121352Z
UID:10004594-1809165600-1809172800@open-eck.de
SUMMARY:Digitale Hilfe
DESCRIPTION:Neu im Open Eck: Digitale Hilfe für alle! \nDu hast Fragen zu deinem Handy\, Laptop oder Tablet? Deine Apps machen nicht\, was sie sollen\, oder du möchtest sicherer im Umgang mit Technik werden? Keine Sorge – wir sind für dich da! \n🔹 Jeden zweiten Samstag 10 – 12 Uhr\n🔹 Mit Doreen\, unserer IT-Expertin\n🔹 Im Open Eck \nKomm vorbei\, wenn du Unterstützung brauchst – egal\, ob es ums E-Mail-Schreiben\, das Einrichten von Apps oder allgemeine IT-Fragen geht. Wir helfen dir gerne!
URL:https://open-eck.de/event/digitale-hilfe-12/2027-05-01/
LOCATION:OpenEck\, Breite Straße 17\, Luckenwalde\, Brandenburg\, 14943\, Germany
END:VEVENT
BEGIN:VEVENT
DTSTART;TZID=Europe/Paris:20270515T100000
DTEND;TZID=Europe/Paris:20270515T120000
DTSTAMP:20260423T105020
CREATED:20250828T185028Z
LAST-MODIFIED:20260320T121352Z
UID:10004595-1810375200-1810382400@open-eck.de
SUMMARY:Digitale Hilfe
DESCRIPTION:Neu im Open Eck: Digitale Hilfe für alle! \nDu hast Fragen zu deinem Handy\, Laptop oder Tablet? Deine Apps machen nicht\, was sie sollen\, oder du möchtest sicherer im Umgang mit Technik werden? Keine Sorge – wir sind für dich da! \n🔹 Jeden zweiten Samstag 10 – 12 Uhr\n🔹 Mit Doreen\, unserer IT-Expertin\n🔹 Im Open Eck \nKomm vorbei\, wenn du Unterstützung brauchst – egal\, ob es ums E-Mail-Schreiben\, das Einrichten von Apps oder allgemeine IT-Fragen geht. Wir helfen dir gerne!
URL:https://open-eck.de/event/digitale-hilfe-12/2027-05-15/
LOCATION:OpenEck\, Breite Straße 17\, Luckenwalde\, Brandenburg\, 14943\, Germany
END:VEVENT
BEGIN:VEVENT
DTSTART;TZID=Europe/Paris:20270529T100000
DTEND;TZID=Europe/Paris:20270529T120000
DTSTAMP:20260423T105020
CREATED:20250828T185028Z
LAST-MODIFIED:20260320T121352Z
UID:10004596-1811584800-1811592000@open-eck.de
SUMMARY:Digitale Hilfe
DESCRIPTION:Neu im Open Eck: Digitale Hilfe für alle! \nDu hast Fragen zu deinem Handy\, Laptop oder Tablet? Deine Apps machen nicht\, was sie sollen\, oder du möchtest sicherer im Umgang mit Technik werden? Keine Sorge – wir sind für dich da! \n🔹 Jeden zweiten Samstag 10 – 12 Uhr\n🔹 Mit Doreen\, unserer IT-Expertin\n🔹 Im Open Eck \nKomm vorbei\, wenn du Unterstützung brauchst – egal\, ob es ums E-Mail-Schreiben\, das Einrichten von Apps oder allgemeine IT-Fragen geht. Wir helfen dir gerne!
URL:https://open-eck.de/event/digitale-hilfe-12/2027-05-29/
LOCATION:OpenEck\, Breite Straße 17\, Luckenwalde\, Brandenburg\, 14943\, Germany
END:VEVENT
BEGIN:VEVENT
DTSTART;TZID=Europe/Paris:20270612T100000
DTEND;TZID=Europe/Paris:20270612T120000
DTSTAMP:20260423T105020
CREATED:20250828T185028Z
LAST-MODIFIED:20260320T121352Z
UID:10004597-1812794400-1812801600@open-eck.de
SUMMARY:Digitale Hilfe
DESCRIPTION:Neu im Open Eck: Digitale Hilfe für alle! \nDu hast Fragen zu deinem Handy\, Laptop oder Tablet? Deine Apps machen nicht\, was sie sollen\, oder du möchtest sicherer im Umgang mit Technik werden? Keine Sorge – wir sind für dich da! \n🔹 Jeden zweiten Samstag 10 – 12 Uhr\n🔹 Mit Doreen\, unserer IT-Expertin\n🔹 Im Open Eck \nKomm vorbei\, wenn du Unterstützung brauchst – egal\, ob es ums E-Mail-Schreiben\, das Einrichten von Apps oder allgemeine IT-Fragen geht. Wir helfen dir gerne!
URL:https://open-eck.de/event/digitale-hilfe-12/2027-06-12/
LOCATION:OpenEck\, Breite Straße 17\, Luckenwalde\, Brandenburg\, 14943\, Germany
END:VEVENT
END:VCALENDAR